BEGIN:VCALENDAR
VERSION:2.0
PRODID:-//ShowWiz - ECPv5.16.4//NONSGML v1.0//EN
CALSCALE:GREGORIAN
METHOD:PUBLISH
X-WR-CALNAME:ShowWiz
X-ORIGINAL-URL:https://showwiz.ca
X-WR-CALDESC:Events for ShowWiz
BEGIN:VTIMEZONE
TZID:America/Toronto
BEGIN:DAYLIGHT
TZOFFSETFROM:-0500
TZOFFSETTO:-0400
TZNAME:EDT
DTSTART:20210314T070000
END:DAYLIGHT
BEGIN:STANDARD
TZOFFSETFROM:-0400
TZOFFSETTO:-0500
TZNAME:EST
DTSTART:20211107T060000
END:STANDARD
END:VTIMEZONE
BEGIN:VEVENT
DTSTART;TZID=America/Toronto:20211204T090000
DTEND;TZID=America/Toronto:20211204T150000
DTSTAMP:20260423T033041
CREATED:20211103T060400Z
LAST-MODIFIED:20211103T131023Z
UID:19349-1638608400-1638630000@showwiz.ca
SUMMARY:Cumberland Christmas Vendors Market
DESCRIPTION:We are hosting a ONE day INDOOR\n CHRISTMAS Market \nat the Cumberland Lion’s Club\nSAVE THE DATE – December 4th from 9-3\nproceeds will be donated to\nthe Local FOOD BANK !!\n Canteen on site \n**Obviously Covid  guidelines have to be followed: Vaccine passport needed / mask  a must to enter the event
URL:https://showwiz.ca/show/cumberland-christmas-vendors-market/
LOCATION:Maple Hall\, 2552 Old Montreal Rd\, Cumberland\, Ontario\, K4C 1A4\, Canada
ATTACH;FMTTYPE=image/jpeg:https://showwiz.ca/wp-content/uploads/2021/11/248926156_1498390953894603_1147945667542498426_n.jpg
ORGANIZER;CN="AJ%20Market%20Events":MAILTO:ajmarketevents@gmail.com
GEO:45.5170559;-75.4076408
X-APPLE-STRUCTURED-LOCATION;VALUE=URI;X-ADDRESS=Maple Hall 2552 Old Montreal Rd Cumberland Ontario K4C 1A4 Canada;X-APPLE-RADIUS=500;X-TITLE=2552 Old Montreal Rd:geo:-75.4076408,45.5170559
END:VEVENT
END:VCALENDAR