BEGIN:VCALENDAR
VERSION:2.0
PRODID:-//ShowWiz - ECPv5.16.4//NONSGML v1.0//EN
CALSCALE:GREGORIAN
METHOD:PUBLISH
X-WR-CALNAME:ShowWiz
X-ORIGINAL-URL:https://showwiz.ca
X-WR-CALDESC:Events for ShowWiz
BEGIN:VTIMEZONE
TZID:America/Toronto
BEGIN:DAYLIGHT
TZOFFSETFROM:-0500
TZOFFSETTO:-0400
TZNAME:EDT
DTSTART:20200308T070000
END:DAYLIGHT
BEGIN:STANDARD
TZOFFSETFROM:-0400
TZOFFSETTO:-0500
TZNAME:EST
DTSTART:20201101T060000
END:STANDARD
END:VTIMEZONE
BEGIN:VEVENT
DTSTART;TZID=America/Toronto:20200718T100000
DTEND;TZID=America/Toronto:20200718T220000
DTSTAMP:20260425T184227
CREATED:20200314T130119Z
LAST-MODIFIED:20200717T042013Z
UID:15131-1595066400-1595109600@showwiz.ca
SUMMARY:COTH Family Fun Day
DESCRIPTION:Information to be confirmed.
URL:https://showwiz.ca/show/coth-family-fun-day/
LOCATION:Blackburn Community Hall\, 190 Glen Park Drive\, Gloucester\, Ontario\, K1B 5A3\, Canada
ATTACH;FMTTYPE=image/jpeg:https://showwiz.ca/wp-content/uploads/2020/03/89728088_644704606329971_1252003496727674880_n.jpg
ORGANIZER;CN="Cross%20on%20the%20Heart":MAILTO:info@crossontheheart.ca
GEO:45.4296742;-75.5634649
X-APPLE-STRUCTURED-LOCATION;VALUE=URI;X-ADDRESS=Blackburn Community Hall 190 Glen Park Drive Gloucester Ontario K1B 5A3 Canada;X-APPLE-RADIUS=500;X-TITLE=190 Glen Park Drive:geo:-75.5634649,45.4296742
END:VEVENT
END:VCALENDAR