BEGIN:VCALENDAR
VERSION:2.0
PRODID:-//ShowWiz - ECPv5.16.4//NONSGML v1.0//EN
CALSCALE:GREGORIAN
METHOD:PUBLISH
X-WR-CALNAME:ShowWiz
X-ORIGINAL-URL:https://showwiz.ca
X-WR-CALDESC:Events for ShowWiz
BEGIN:VTIMEZONE
TZID:America/Toronto
BEGIN:DAYLIGHT
TZOFFSETFROM:-0500
TZOFFSETTO:-0400
TZNAME:EDT
DTSTART:20200308T070000
END:DAYLIGHT
BEGIN:STANDARD
TZOFFSETFROM:-0400
TZOFFSETTO:-0500
TZNAME:EST
DTSTART:20201101T060000
END:STANDARD
END:VTIMEZONE
BEGIN:VEVENT
DTSTART;TZID=America/Toronto:20200328T100000
DTEND;TZID=America/Toronto:20200328T160000
DTSTAMP:20260424T225212
CREATED:20191125T161145Z
LAST-MODIFIED:20200312T223836Z
UID:10968-1585389600-1585411200@showwiz.ca
SUMMARY:Cornwall Community Cheer's Spring Spectacular Craft & Vendor Show
DESCRIPTION:Cornwall Community Cheer is branching out folks\, this will be our first ever Spring Craft and Vendor show. Our last show was epic\, and we thank each and every one of you who turned up to support\, not only us\, but our local sellers and area nonprofits. Like last year\, admission is free\, there is lots of parking\, and tons to see. You’ll see some old favorites\, and maybe find some new ones. We have our Reverse Raffle\, proceeds to support Community Cheers efforts in Cornwall\, best odds you’ll see! Come on out! Easter gifts\, Mothers day gifts\, birthdays\, showers\, updating the look in your home…we’ve got you covered!  Take a look around. We promise\, there will be something for everyone!
URL:https://showwiz.ca/show/cornwall-community-cheers-spring-spectacular-craft-vendor-show/
LOCATION:Holy Trinity Catholic Secondary School – Cornwall\, 18044 Tyotown Road\, Cornwall\, Ontario\, K6H5R5\, Canada
ATTACH;FMTTYPE=image/jpeg:https://showwiz.ca/wp-content/uploads/2019/11/75540143_2794692777275472_3719639431515209728_o.jpg
ORGANIZER;CN="Cornwall%20Community%20Cheer":MAILTO:debbieroy_2005@yahoo.ca
GEO:45.0485744;-74.677866
X-APPLE-STRUCTURED-LOCATION;VALUE=URI;X-ADDRESS=Holy Trinity Catholic Secondary School – Cornwall 18044 Tyotown Road Cornwall Ontario K6H5R5 Canada;X-APPLE-RADIUS=500;X-TITLE=18044 Tyotown Road:geo:-74.677866,45.0485744
END:VEVENT
END:VCALENDAR