BEGIN:VCALENDAR
VERSION:2.0
PRODID:-//ShowWiz - ECPv5.16.4//NONSGML v1.0//EN
CALSCALE:GREGORIAN
METHOD:PUBLISH
X-WR-CALNAME:ShowWiz
X-ORIGINAL-URL:https://showwiz.ca
X-WR-CALDESC:Events for ShowWiz
BEGIN:VTIMEZONE
TZID:America/Toronto
BEGIN:DAYLIGHT
TZOFFSETFROM:-0500
TZOFFSETTO:-0400
TZNAME:EDT
DTSTART:20190310T070000
END:DAYLIGHT
BEGIN:STANDARD
TZOFFSETFROM:-0400
TZOFFSETTO:-0500
TZNAME:EST
DTSTART:20191103T060000
END:STANDARD
END:VTIMEZONE
BEGIN:VEVENT
DTSTART;TZID=America/Toronto:20190407T110000
DTEND;TZID=America/Toronto:20190407T160000
DTSTAMP:20260425T203730
CREATED:20181221T041848Z
LAST-MODIFIED:20190302T025955Z
UID:1878-1554634800-1554652800@showwiz.ca
SUMMARY:Cobden Spring Craft & Vendor Show
DESCRIPTION:Spring craft & vendor show at the Cobden Agricultural Society Hall (43 Astrolabe Rd\, Cobden\, ON K0J 1K0) on April 7th\, 2019 from 11am – 4pm.\nThere will be lots of vendors to shop from so come see what they have to offer.
URL:https://showwiz.ca/show/cobden-spring-craft-vendor-show/
LOCATION:Cobden Fairgrounds\, 43 Astrolabe Road\, Cobden\, Ontario\, K0J 1K0\, Canada
ATTACH;FMTTYPE=image/jpeg:https://showwiz.ca/wp-content/uploads/2018/12/48405752_2037287636564301_1419958738298601472_n-1.jpg
GEO:45.6226821;-76.880603
X-APPLE-STRUCTURED-LOCATION;VALUE=URI;X-ADDRESS=Cobden Fairgrounds 43 Astrolabe Road Cobden Ontario K0J 1K0 Canada;X-APPLE-RADIUS=500;X-TITLE=43 Astrolabe Road:geo:-76.880603,45.6226821
END:VEVENT
END:VCALENDAR