BEGIN:VCALENDAR
VERSION:2.0
PRODID:-//ShowWiz - ECPv5.16.4//NONSGML v1.0//EN
CALSCALE:GREGORIAN
METHOD:PUBLISH
X-WR-CALNAME:ShowWiz
X-ORIGINAL-URL:https://showwiz.ca
X-WR-CALDESC:Events for ShowWiz
BEGIN:VTIMEZONE
TZID:America/Toronto
BEGIN:DAYLIGHT
TZOFFSETFROM:-0500
TZOFFSETTO:-0400
TZNAME:EDT
DTSTART:20220313T070000
END:DAYLIGHT
BEGIN:STANDARD
TZOFFSETFROM:-0400
TZOFFSETTO:-0500
TZNAME:EST
DTSTART:20221106T060000
END:STANDARD
END:VTIMEZONE
BEGIN:VEVENT
DTSTART;TZID=America/Toronto:20221203T090000
DTEND;TZID=America/Toronto:20221203T150000
DTSTAMP:20260424T064022
CREATED:20221102T063009Z
LAST-MODIFIED:20221102T063009Z
UID:22242-1670058000-1670079600@showwiz.ca
SUMMARY:Christmas Market at Upper Rideau Legion
DESCRIPTION:
URL:https://showwiz.ca/show/christmas-market-at-upper-rideau-legion/
LOCATION:Royal Canadian Legion Branch 542 – Upper Rideau\, 10099 Perth Road\, Westport\, Ontario\, K0G1X0\, Canada
ATTACH;FMTTYPE=image/jpeg:https://showwiz.ca/wp-content/uploads/2022/11/312422339_484185423737235_486650009680998213_n.jpg
ORGANIZER;CN="Royal%20Canadian%20Legion%20Branch%20542%20-%20Upper%20Rideau":MAILTO:rclbranch542@gmail.com
GEO:44.6690233;-76.3962304
X-APPLE-STRUCTURED-LOCATION;VALUE=URI;X-ADDRESS=Royal Canadian Legion Branch 542 – Upper Rideau 10099 Perth Road Westport Ontario K0G1X0 Canada;X-APPLE-RADIUS=500;X-TITLE=10099 Perth Road:geo:-76.3962304,44.6690233
END:VEVENT
END:VCALENDAR