BEGIN:VCALENDAR
VERSION:2.0
PRODID:-//ShowWiz - ECPv5.16.4//NONSGML v1.0//EN
CALSCALE:GREGORIAN
METHOD:PUBLISH
X-WR-CALNAME:ShowWiz
X-ORIGINAL-URL:https://showwiz.ca
X-WR-CALDESC:Events for ShowWiz
BEGIN:VTIMEZONE
TZID:America/Toronto
BEGIN:DAYLIGHT
TZOFFSETFROM:-0500
TZOFFSETTO:-0400
TZNAME:EDT
DTSTART:20190310T070000
END:DAYLIGHT
BEGIN:STANDARD
TZOFFSETFROM:-0400
TZOFFSETTO:-0500
TZNAME:EST
DTSTART:20191103T060000
END:STANDARD
END:VTIMEZONE
BEGIN:VEVENT
DTSTART;TZID=America/Toronto:20191130T100000
DTEND;TZID=America/Toronto:20191130T160000
DTSTAMP:20260425T084612
CREATED:20191115T185646Z
LAST-MODIFIED:20191115T185646Z
UID:10766-1575108000-1575129600@showwiz.ca
SUMMARY:Christmas Market at Calabogie Peaks Resort
DESCRIPTION:Join us at Calabogie Peaks Resort for our Annual Christmas Market on November 30th & December 1st\, 2019.\nThis is the perfect opportunity to search out one of a kind unique gifts that are hand crafted by local artisans and crafters from across the Ottawa Valley!\nAdmission is free of charge so come one\, come all and support our local artisans!\nThe Adventure Centre will be open for anyone who wishes to pick-up their season pass as well as register for winter programming.
URL:https://showwiz.ca/show/christmas-market-at-calabogie-peaks-resort-2/2019-11-30/
LOCATION:Calabogie Peaks Resort\, 30 Barrett Chute Road\, Calabogie\, Ontario\, K0J1H0\, Canada
ORGANIZER;CN="Calabogie%20Peaks%20Resort":MAILTO:events@calabogie.com
GEO:45.274401;-76.7803903
X-APPLE-STRUCTURED-LOCATION;VALUE=URI;X-ADDRESS=Calabogie Peaks Resort 30 Barrett Chute Road Calabogie Ontario K0J1H0 Canada;X-APPLE-RADIUS=500;X-TITLE=30 Barrett Chute Road:geo:-76.7803903,45.274401
END:VEVENT
END:VCALENDAR