BEGIN:VCALENDAR
VERSION:2.0
PRODID:-//ShowWiz - ECPv5.16.4//NONSGML v1.0//EN
CALSCALE:GREGORIAN
METHOD:PUBLISH
X-WR-CALNAME:ShowWiz
X-ORIGINAL-URL:https://showwiz.ca
X-WR-CALDESC:Events for ShowWiz
BEGIN:VTIMEZONE
TZID:America/Toronto
BEGIN:DAYLIGHT
TZOFFSETFROM:-0500
TZOFFSETTO:-0400
TZNAME:EDT
DTSTART:20190310T070000
END:DAYLIGHT
BEGIN:STANDARD
TZOFFSETFROM:-0400
TZOFFSETTO:-0500
TZNAME:EST
DTSTART:20191103T060000
END:STANDARD
END:VTIMEZONE
BEGIN:VEVENT
DTSTART;TZID=America/Toronto:20191124T093000
DTEND;TZID=America/Toronto:20191124T150000
DTSTAMP:20260424T165225
CREATED:20191017T220643Z
LAST-MODIFIED:20191017T220643Z
UID:9957-1574587800-1574607600@showwiz.ca
SUMMARY:Christmas in South Mountain Craft and Vendor Show
DESCRIPTION:
URL:https://showwiz.ca/show/christmas-in-south-mountain-craft-and-vendor-show/
LOCATION:Mountain Township Agricultural Hall\, 2967 Lough Rd\, South Mountain\, Ontario\, K0E1W0\, Canada
ATTACH;FMTTYPE=image/jpeg:https://showwiz.ca/wp-content/uploads/2019/10/72469636_3050449145027466_2680916498809094144_n.jpg
ORGANIZER;CN="Carolyn":MAILTO:mady@repnet.com
GEO:44.9925648;-75.4483843
X-APPLE-STRUCTURED-LOCATION;VALUE=URI;X-ADDRESS=Mountain Township Agricultural Hall 2967 Lough Rd South Mountain Ontario K0E1W0 Canada;X-APPLE-RADIUS=500;X-TITLE=2967 Lough Rd:geo:-75.4483843,44.9925648
END:VEVENT
END:VCALENDAR