BEGIN:VCALENDAR
VERSION:2.0
PRODID:-//ShowWiz - ECPv5.16.4//NONSGML v1.0//EN
CALSCALE:GREGORIAN
METHOD:PUBLISH
X-WR-CALNAME:ShowWiz
X-ORIGINAL-URL:https://showwiz.ca
X-WR-CALDESC:Events for ShowWiz
BEGIN:VTIMEZONE
TZID:America/Toronto
BEGIN:DAYLIGHT
TZOFFSETFROM:-0500
TZOFFSETTO:-0400
TZNAME:EDT
DTSTART:20220313T070000
END:DAYLIGHT
BEGIN:STANDARD
TZOFFSETFROM:-0400
TZOFFSETTO:-0500
TZNAME:EST
DTSTART:20221106T060000
END:STANDARD
END:VTIMEZONE
BEGIN:VEVENT
DTSTART;TZID=America/Toronto:20221119T100000
DTEND;TZID=America/Toronto:20221119T150000
DTSTAMP:20260424T193906
CREATED:20221117T040044Z
LAST-MODIFIED:20221117T040044Z
UID:22390-1668852000-1668870000@showwiz.ca
SUMMARY:Christmas Farmers' Market
DESCRIPTION:The Christmas version of the Farmers’ Market bringing a whole new group of vendors to start the shopping and gift giving season.
URL:https://showwiz.ca/show/christmas-farmers-market/
LOCATION:Crystal Palace – Perth\, 28 Drummond Street E\, Perth\, Ontario\, K7H1E9\, Canada
ATTACH;FMTTYPE=image/jpeg:https://showwiz.ca/wp-content/uploads/2022/11/314754502_547262544074537_165774597099937012_n-scaled.jpg
GEO:44.8999989;-76.2476566
X-APPLE-STRUCTURED-LOCATION;VALUE=URI;X-ADDRESS=Crystal Palace – Perth 28 Drummond Street E Perth Ontario K7H1E9 Canada;X-APPLE-RADIUS=500;X-TITLE=28 Drummond Street E:geo:-76.2476566,44.8999989
END:VEVENT
END:VCALENDAR