BEGIN:VCALENDAR
VERSION:2.0
PRODID:-//ShowWiz - ECPv5.16.4//NONSGML v1.0//EN
CALSCALE:GREGORIAN
METHOD:PUBLISH
X-WR-CALNAME:ShowWiz
X-ORIGINAL-URL:https://showwiz.ca
X-WR-CALDESC:Events for ShowWiz
BEGIN:VTIMEZONE
TZID:America/Toronto
BEGIN:DAYLIGHT
TZOFFSETFROM:-0500
TZOFFSETTO:-0400
TZNAME:EDT
DTSTART:20200308T070000
END:DAYLIGHT
BEGIN:STANDARD
TZOFFSETFROM:-0400
TZOFFSETTO:-0500
TZNAME:EST
DTSTART:20201101T060000
END:STANDARD
END:VTIMEZONE
BEGIN:VEVENT
DTSTART;TZID=America/Toronto:20201121T100000
DTEND;TZID=America/Toronto:20201121T160000
DTSTAMP:20260425T184332
CREATED:20201123T071037Z
LAST-MODIFIED:20221117T200739Z
UID:17167-1605952800-1605974400@showwiz.ca
SUMMARY:Christmas Craft & Vendor Markets
DESCRIPTION:4 Dates!!! ~ Nov 21st\, Nov 29th\, Dec 5th\, Dec 13th\n20+ amazingly local talented Crafters & Vendors to help you start and or wrap up your Christmas Shopping… \nThese 4 Markets will be your one stop shopping for all your Christmas Must haves \nJoin us at the West End Mall\, 1200 Pembroke St West\, (across from Value Village) we will be located in the Old Brick Location. \n*** ALL COVID 19 PROTOCOLS will be in effect\, Masks MUST be worn & Social Distancing of 6ft & Hand Sanitizer(stations at both entrances ***
URL:https://showwiz.ca/show/christmas-craft-vendor-markets/2020-11-21/
LOCATION:Pembroke West End Mall\, 1200 Pembroke Street W\, Pembroke\, Ontario\, K8A7T1\, Canada
ATTACH;FMTTYPE=image/jpeg:https://showwiz.ca/wp-content/uploads/2020/11/127114278_10216169146216067_4979974365676065457_o.jpg
ORGANIZER;CN="Valley%20Markets%20By%20Krista":MAILTO:bkcliche@outlook.com
GEO:45.8311596;-77.1468071
X-APPLE-STRUCTURED-LOCATION;VALUE=URI;X-ADDRESS=Pembroke West End Mall 1200 Pembroke Street W Pembroke Ontario K8A7T1 Canada;X-APPLE-RADIUS=500;X-TITLE=1200 Pembroke Street W:geo:-77.1468071,45.8311596
END:VEVENT
END:VCALENDAR