BEGIN:VCALENDAR
VERSION:2.0
PRODID:-//ShowWiz - ECPv5.16.4//NONSGML v1.0//EN
CALSCALE:GREGORIAN
METHOD:PUBLISH
X-WR-CALNAME:ShowWiz
X-ORIGINAL-URL:https://showwiz.ca
X-WR-CALDESC:Events for ShowWiz
BEGIN:VTIMEZONE
TZID:America/Toronto
BEGIN:DAYLIGHT
TZOFFSETFROM:-0500
TZOFFSETTO:-0400
TZNAME:EDT
DTSTART:20210314T070000
END:DAYLIGHT
BEGIN:STANDARD
TZOFFSETFROM:-0400
TZOFFSETTO:-0500
TZNAME:EST
DTSTART:20211107T060000
END:STANDARD
END:VTIMEZONE
BEGIN:VEVENT
DTSTART;TZID=America/Toronto:20210215T100000
DTEND;TZID=America/Toronto:20210215T160000
DTSTAMP:20260425T164648
CREATED:20200416T170904Z
LAST-MODIFIED:20201223T014952Z
UID:15705-1613383200-1613404800@showwiz.ca
SUMMARY:Carleton Place Comiccon
DESCRIPTION:Bigger and Better than ever. 2 full event halls with even more vendors! A celebration of all things Geeky! Comic books\, artwork\, jewelry\, board games\, anime\, and so much more!!!! FREE face painting\, and children’s activity area. Loads of FREE parking. FREE draws for amazing prizes. As always\, Admission is only $1 per person over 12 years of age\, OR a non-perishable food donation for the Lanark County Food Bank. 100% of food and money collected goes directly to the Food Bank.
URL:https://showwiz.ca/show/carleton-place-comiccon/
LOCATION:Carleton Place Arena\, 75 Neelin Street\, Carleton Place\, Ontario\, K7C4H1\, Canada
ATTACH;FMTTYPE=image/jpeg:https://showwiz.ca/wp-content/uploads/2020/04/89292447_498127370879416_6570370574906818560_o.jpg
ORGANIZER;CN="Carleton%20Place%20Comiccon":MAILTO:cpcomiccon@gmail.com
GEO:45.1422368;-76.1385939
X-APPLE-STRUCTURED-LOCATION;VALUE=URI;X-ADDRESS=Carleton Place Arena 75 Neelin Street Carleton Place Ontario K7C4H1 Canada;X-APPLE-RADIUS=500;X-TITLE=75 Neelin Street:geo:-76.1385939,45.1422368
END:VEVENT
END:VCALENDAR