BEGIN:VCALENDAR
VERSION:2.0
PRODID:-//ShowWiz - ECPv5.16.4//NONSGML v1.0//EN
CALSCALE:GREGORIAN
METHOD:PUBLISH
X-WR-CALNAME:ShowWiz
X-ORIGINAL-URL:https://showwiz.ca
X-WR-CALDESC:Events for ShowWiz
BEGIN:VTIMEZONE
TZID:America/Toronto
BEGIN:DAYLIGHT
TZOFFSETFROM:-0500
TZOFFSETTO:-0400
TZNAME:EDT
DTSTART:20190310T070000
END:DAYLIGHT
BEGIN:STANDARD
TZOFFSETFROM:-0400
TZOFFSETTO:-0500
TZNAME:EST
DTSTART:20191103T060000
END:STANDARD
END:VTIMEZONE
BEGIN:VEVENT
DTSTART;TZID=America/Toronto:20191215T100000
DTEND;TZID=America/Toronto:20191215T150000
DTSTAMP:20260424T195214
CREATED:20190827T031619Z
LAST-MODIFIED:20191018T131032Z
UID:8687-1576404000-1576422000@showwiz.ca
SUMMARY:Capital Pop Up! Snowfall Handmade
DESCRIPTION:On December 15th\, we will be showcasing 50 very talented artisans and food makers\, plus we’ll be supporting one pretty special charity. CHEO has been helping children and their families in our community and beyond for years. \nEntry to the show is $2 or pay-what-you-can and will be donated to CHEO along with raffle ticket sales. \nWarm drinks\, great music at the beautiful Glebe Community Centre. We hope to see you there.
URL:https://showwiz.ca/show/capital-pop-up-holiday-edition/
LOCATION:Glebe Community Centre\, 175 Third Avenue\, Ottawa\, Ontario\, K1S2K2\, Canada
ATTACH;FMTTYPE=image/png:https://showwiz.ca/wp-content/uploads/2019/08/70648563_2407500066189896_1291889556630536192_n.png
ORGANIZER;CN="Capital%20Pop%20Up%21":MAILTO:capitalpopup@gmail.com
GEO:45.4022369;-75.6914983
X-APPLE-STRUCTURED-LOCATION;VALUE=URI;X-ADDRESS=Glebe Community Centre 175 Third Avenue Ottawa Ontario K1S2K2 Canada;X-APPLE-RADIUS=500;X-TITLE=175 Third Avenue:geo:-75.6914983,45.4022369
END:VEVENT
END:VCALENDAR