BEGIN:VCALENDAR
VERSION:2.0
PRODID:-//ShowWiz - ECPv5.16.4//NONSGML v1.0//EN
CALSCALE:GREGORIAN
METHOD:PUBLISH
X-WR-CALNAME:ShowWiz
X-ORIGINAL-URL:https://showwiz.ca
X-WR-CALDESC:Events for ShowWiz
BEGIN:VTIMEZONE
TZID:America/Toronto
BEGIN:DAYLIGHT
TZOFFSETFROM:-0500
TZOFFSETTO:-0400
TZNAME:EDT
DTSTART:20190310T070000
END:DAYLIGHT
BEGIN:STANDARD
TZOFFSETFROM:-0400
TZOFFSETTO:-0500
TZNAME:EST
DTSTART:20191103T060000
END:STANDARD
END:VTIMEZONE
BEGIN:VEVENT
DTSTART;TZID=America/Toronto:20190629T090000
DTEND;TZID=America/Toronto:20190629T180000
DTSTAMP:20260425T070331
CREATED:20190322T182204Z
LAST-MODIFIED:20190322T182407Z
UID:4794-1561798800-1561831200@showwiz.ca
SUMMARY:Calabogie's "Showcase Paradise"
DESCRIPTION:Hey Greater Madawaska Township and beyond mark your calendar for “Showcase Paradise 2019” June 29 2019 ….gonna be the best one yet!
URL:https://showwiz.ca/show/calabogie-showcase-paradise/
LOCATION:Calabogie Community Centre\, 574 Mill Street\, Calabogie\, Ontario\, K0J1H0\, Canada
ATTACH;FMTTYPE=image/jpeg:https://showwiz.ca/wp-content/uploads/2019/03/54515313_2122344567849849_432584690826739712_n.jpg
ORGANIZER;CN="Calabogie%27s%20Showcase%20Paradise":MAILTO:kimberlyarekowski@gmail.com
GEO:45.3000225;-76.7264046
X-APPLE-STRUCTURED-LOCATION;VALUE=URI;X-ADDRESS=Calabogie Community Centre 574 Mill Street Calabogie Ontario K0J1H0 Canada;X-APPLE-RADIUS=500;X-TITLE=574 Mill Street:geo:-76.7264046,45.3000225
END:VEVENT
END:VCALENDAR