BEGIN:VCALENDAR
VERSION:2.0
PRODID:-//ShowWiz - ECPv5.16.4//NONSGML v1.0//EN
CALSCALE:GREGORIAN
METHOD:PUBLISH
X-WR-CALNAME:ShowWiz
X-ORIGINAL-URL:https://showwiz.ca
X-WR-CALDESC:Events for ShowWiz
BEGIN:VTIMEZONE
TZID:America/Toronto
BEGIN:DAYLIGHT
TZOFFSETFROM:-0500
TZOFFSETTO:-0400
TZNAME:EDT
DTSTART:20180311T070000
END:DAYLIGHT
BEGIN:STANDARD
TZOFFSETFROM:-0400
TZOFFSETTO:-0500
TZNAME:EST
DTSTART:20181104T060000
END:STANDARD
END:VTIMEZONE
BEGIN:VEVENT
DTSTART;TZID=America/Toronto:20181202T090000
DTEND;TZID=America/Toronto:20181202T120000
DTSTAMP:20260424T151643
CREATED:20181116T020452Z
LAST-MODIFIED:20190302T213732Z
UID:1531-1543741200-1543752000@showwiz.ca
SUMMARY:Brunch and Vendor Sale
DESCRIPTION:Brunch à volonté avec une visite du Père Noël et 30 vendeurs d’artisanat. All you can eat brunch with a visit from Santa Claus and 30 vendors. \nVendor fair is free to the public and children can visit with Santa for a treat free of charge.  \nBrunch is $12 for adults\, $6 for children 5-12 and Free for children under 5.
URL:https://showwiz.ca/show/brunch-and-vendor-sale/
LOCATION:Bourget Community Centre\, 19 Lavigne Street\, Bourget\, Ontario\, K0A1E0\, Canada
ATTACH;FMTTYPE=image/jpeg:https://showwiz.ca/wp-content/uploads/2018/11/45321618_708631016174911_2222283312368451584_n-1.jpg
GEO:45.4359722;-75.1644634
X-APPLE-STRUCTURED-LOCATION;VALUE=URI;X-ADDRESS=Bourget Community Centre 19 Lavigne Street Bourget Ontario K0A1E0 Canada;X-APPLE-RADIUS=500;X-TITLE=19 Lavigne Street:geo:-75.1644634,45.4359722
END:VEVENT
END:VCALENDAR