BEGIN:VCALENDAR
VERSION:2.0
PRODID:-//ShowWiz - ECPv5.16.4//NONSGML v1.0//EN
CALSCALE:GREGORIAN
METHOD:PUBLISH
X-WR-CALNAME:ShowWiz
X-ORIGINAL-URL:https://showwiz.ca
X-WR-CALDESC:Events for ShowWiz
BEGIN:VTIMEZONE
TZID:America/Toronto
BEGIN:DAYLIGHT
TZOFFSETFROM:-0500
TZOFFSETTO:-0400
TZNAME:EDT
DTSTART:20220313T070000
END:DAYLIGHT
BEGIN:STANDARD
TZOFFSETFROM:-0400
TZOFFSETTO:-0500
TZNAME:EST
DTSTART:20221106T060000
END:STANDARD
END:VTIMEZONE
BEGIN:VEVENT
DTSTART;TZID=America/Toronto:20220811T110000
DTEND;TZID=America/Toronto:20220811T210000
DTSTAMP:20260424T014546
CREATED:20220326T001904Z
LAST-MODIFIED:20220326T001904Z
UID:20021-1660215600-1660251600@showwiz.ca
SUMMARY:Brockville Poutine Feast
DESCRIPTION:Poutine Feast is coming back to Brockville in 2022. Leave the Conspiracies at home this year!\nPoutine Feast is a collection of award-winning food professionals specializing in the greatest food ever invented in Canada\, the poutine and will be touring across Ontario this summer. With over 50 variations and generous portions there is a poutine for everyone from vegans to meat lovers. Gourmet selections include unique toppings such as fresh vegetables&semi; slow roasted pork and even lobster just to name a few. There are also a number of vegetarian\, vegan and gluten-free options available.\nPoutine Feast is more than just award-winning food. It’s a unique atmosphere that is both family-friendly and a great place to hang out with friends and featuring music\, entertainment and much more.\nWe are always adding to our list of vendors and types of entertainment to make our festivals more fun for your family and friends. Send us a message if you are interested!\nThis year we are even offering a VIP Experience that includes Food &amp; Drink\, Skip the Lines\, Table Service\, VIP Lanyard &amp; a sponsor surprise gift bag.\nVendors: Tell the organizer you heard about this event on ShowWiz for a discount 10% off your vendor fee (there’s 26 shows on this circut!)
URL:https://showwiz.ca/show/brockville-poutine-feast-2/2022-08-11/
LOCATION:Centennial Park – Brockville\, 98 Water Street W\, Brockville\, Ontario\, K6V6M4
ATTACH;FMTTYPE=image/jpeg:https://showwiz.ca/wp-content/uploads/2022/03/273581236_3122973621323348_506115798381595754_n.jpg
ORGANIZER;CN="Poutine%20Feast":MAILTO:james@poutinefeast.com
GEO:44.5868247;-75.6862819
X-APPLE-STRUCTURED-LOCATION;VALUE=URI;X-ADDRESS=Centennial Park – Brockville 98 Water Street W Brockville Ontario K6V6M4;X-APPLE-RADIUS=500;X-TITLE=98 Water Street W:geo:-75.6862819,44.5868247
END:VEVENT
END:VCALENDAR