BEGIN:VCALENDAR
VERSION:2.0
PRODID:-//ShowWiz - ECPv5.16.4//NONSGML v1.0//EN
CALSCALE:GREGORIAN
METHOD:PUBLISH
X-WR-CALNAME:ShowWiz
X-ORIGINAL-URL:https://showwiz.ca
X-WR-CALDESC:Events for ShowWiz
BEGIN:VTIMEZONE
TZID:America/Toronto
BEGIN:DAYLIGHT
TZOFFSETFROM:-0500
TZOFFSETTO:-0400
TZNAME:EDT
DTSTART:20230312T070000
END:DAYLIGHT
BEGIN:STANDARD
TZOFFSETFROM:-0400
TZOFFSETTO:-0500
TZNAME:EST
DTSTART:20231105T060000
END:STANDARD
END:VTIMEZONE
BEGIN:VEVENT
DTSTART;TZID=America/Toronto:20230521T090000
DTEND;TZID=America/Toronto:20230521T150000
DTSTAMP:20260424T041148
CREATED:20230329T020102Z
LAST-MODIFIED:20230329T020102Z
UID:23395-1684659600-1684681200@showwiz.ca
SUMMARY:Blossom Fest
DESCRIPTION:Blossom Fest is a free family outdoors festival to mark and celebrate the arrival of spring through all forms of art\, nature appreciation and community. \nThis year we’re proud to welcome Indigenous dance and storytelling\, an expanded marketplace\, a variety of food & drink vendors and extra activities on Saturday\, May 20th. \nLocated in Stittsville\, ON
URL:https://showwiz.ca/show/blossom-fest-3/
LOCATION:Crossing Bridge Park – Stittsville\, 27 Hobin Street\, Stittsville\, Ontario\, K2S1G8\, Canada
ATTACH;FMTTYPE=image/jpeg:https://showwiz.ca/wp-content/uploads/2020/02/84470990_124465535748815_8055046163889389568_n.jpg
ORGANIZER;CN="Crossing%20Bridge%20Residents%27%20Association":MAILTO:CrossingBridgeFest@gmail.com
GEO:45.2625071;-75.9332932
X-APPLE-STRUCTURED-LOCATION;VALUE=URI;X-ADDRESS=Crossing Bridge Park – Stittsville 27 Hobin Street Stittsville Ontario K2S1G8 Canada;X-APPLE-RADIUS=500;X-TITLE=27 Hobin Street:geo:-75.9332932,45.2625071
END:VEVENT
END:VCALENDAR