BEGIN:VCALENDAR
VERSION:2.0
PRODID:-//ShowWiz - ECPv5.16.4//NONSGML v1.0//EN
CALSCALE:GREGORIAN
METHOD:PUBLISH
X-WR-CALNAME:ShowWiz
X-ORIGINAL-URL:https://showwiz.ca
X-WR-CALDESC:Events for ShowWiz
BEGIN:VTIMEZONE
TZID:America/Toronto
BEGIN:DAYLIGHT
TZOFFSETFROM:-0500
TZOFFSETTO:-0400
TZNAME:EDT
DTSTART:20220313T070000
END:DAYLIGHT
BEGIN:STANDARD
TZOFFSETFROM:-0400
TZOFFSETTO:-0500
TZNAME:EST
DTSTART:20221106T060000
END:STANDARD
END:VTIMEZONE
BEGIN:VEVENT
DTSTART;TZID=America/Toronto:20220211T080000
DTEND;TZID=America/Toronto:20220213T170000
DTSTAMP:20260424T153730
CREATED:20220123T055217Z
LAST-MODIFIED:20220123T055217Z
UID:19651-1644566400-1644771600@showwiz.ca
SUMMARY:Big Love Retail Market
DESCRIPTION:
URL:https://showwiz.ca/show/big-love-retail-market/
LOCATION:Freewheeling Pop Up\, 70B Beech Street\, Ottawa\, Ontario\, K1S4M8\, Canada
ATTACH;FMTTYPE=image/jpeg:https://showwiz.ca/wp-content/uploads/2022/01/holiyay_5_x_3_in_24_480x480.jpg
ORGANIZER;CN="Common%20Markets":MAILTO:hello@freewheelingcraft.com
GEO:45.400552;-75.708809
X-APPLE-STRUCTURED-LOCATION;VALUE=URI;X-ADDRESS=Freewheeling Pop Up 70B Beech Street Ottawa Ontario K1S4M8 Canada;X-APPLE-RADIUS=500;X-TITLE=70B Beech Street:geo:-75.708809,45.400552
END:VEVENT
END:VCALENDAR