BEGIN:VCALENDAR
VERSION:2.0
PRODID:-//ShowWiz - ECPv5.16.4//NONSGML v1.0//EN
CALSCALE:GREGORIAN
METHOD:PUBLISH
X-WR-CALNAME:ShowWiz
X-ORIGINAL-URL:https://showwiz.ca
X-WR-CALDESC:Events for ShowWiz
BEGIN:VTIMEZONE
TZID:America/Toronto
BEGIN:DAYLIGHT
TZOFFSETFROM:-0500
TZOFFSETTO:-0400
TZNAME:EDT
DTSTART:20200308T070000
END:DAYLIGHT
BEGIN:STANDARD
TZOFFSETFROM:-0400
TZOFFSETTO:-0500
TZNAME:EST
DTSTART:20201101T060000
END:STANDARD
END:VTIMEZONE
BEGIN:VEVENT
DTSTART;TZID=America/Toronto:20200502T090000
DTEND;TZID=America/Toronto:20200502T140000
DTSTAMP:20260425T062646
CREATED:20200408T035524Z
LAST-MODIFIED:20200408T035524Z
UID:15631-1588410000-1588428000@showwiz.ca
SUMMARY:Beechwood Market Spring Edition
DESCRIPTION:
URL:https://showwiz.ca/show/beechwood-market-spring-edition/
LOCATION:New Edinburgh Square Retirement Residence\, 35 Beechwood Avenue\, Ottawa\, Ontario\, K1M1M1\, Canada
ORGANIZER;CN="Ottawa%20Street%20Markets":MAILTO:ottawastreetmarkets@gmail.com
GEO:45.4396519;-75.6769293
X-APPLE-STRUCTURED-LOCATION;VALUE=URI;X-ADDRESS=New Edinburgh Square Retirement Residence 35 Beechwood Avenue Ottawa Ontario K1M1M1 Canada;X-APPLE-RADIUS=500;X-TITLE=35 Beechwood Avenue:geo:-75.6769293,45.4396519
END:VEVENT
END:VCALENDAR