BEGIN:VCALENDAR
VERSION:2.0
PRODID:-//ShowWiz - ECPv5.16.4//NONSGML v1.0//EN
CALSCALE:GREGORIAN
METHOD:PUBLISH
X-WR-CALNAME:ShowWiz
X-ORIGINAL-URL:https://showwiz.ca
X-WR-CALDESC:Events for ShowWiz
BEGIN:VTIMEZONE
TZID:America/Toronto
BEGIN:DAYLIGHT
TZOFFSETFROM:-0500
TZOFFSETTO:-0400
TZNAME:EDT
DTSTART:20220313T070000
END:DAYLIGHT
BEGIN:STANDARD
TZOFFSETFROM:-0400
TZOFFSETTO:-0500
TZNAME:EST
DTSTART:20221106T060000
END:STANDARD
END:VTIMEZONE
BEGIN:VEVENT
DTSTART;TZID=America/Toronto:20220925T100000
DTEND;TZID=America/Toronto:20220925T150000
DTSTAMP:20260424T050306
CREATED:20220220T160711Z
LAST-MODIFIED:20220628T004310Z
UID:19773-1664100000-1664118000@showwiz.ca
SUMMARY:Baby Mama Hustle: Picnic in the Park
DESCRIPTION:You asked for it\, and you got it! A fall boho picnic in the park at our next Baby Mama Hustle market. \nGet ready for a fun photo shoot at the dreamiest boho picnic set up. A picnic at the park kiddie corner & much more!
URL:https://showwiz.ca/show/baby-mama-hustle-fall-market-2/
LOCATION:Horticulture Building – Lansdowne Park\, 1525 Princess Patricia Way\, Ottawa\, Ontario\, K1s5J3\, Canada
ATTACH;FMTTYPE=image/jpeg:https://showwiz.ca/wp-content/uploads/2022/02/288682975_2185125654984380_952815848079268689_n.jpg
ORGANIZER;CN="babymamahustle":MAILTO:babymamahustle@gmail.com
GEO:45.4007752;-75.6823441
X-APPLE-STRUCTURED-LOCATION;VALUE=URI;X-ADDRESS=Horticulture Building – Lansdowne Park 1525 Princess Patricia Way Ottawa Ontario K1s5J3 Canada;X-APPLE-RADIUS=500;X-TITLE=1525 Princess Patricia Way:geo:-75.6823441,45.4007752
END:VEVENT
END:VCALENDAR