BEGIN:VCALENDAR
VERSION:2.0
PRODID:-//ShowWiz - ECPv5.16.4//NONSGML v1.0//EN
CALSCALE:GREGORIAN
METHOD:PUBLISH
X-WR-CALNAME:ShowWiz
X-ORIGINAL-URL:https://showwiz.ca
X-WR-CALDESC:Events for ShowWiz
BEGIN:VTIMEZONE
TZID:America/Toronto
BEGIN:DAYLIGHT
TZOFFSETFROM:-0500
TZOFFSETTO:-0400
TZNAME:EDT
DTSTART:20190310T070000
END:DAYLIGHT
BEGIN:STANDARD
TZOFFSETFROM:-0400
TZOFFSETTO:-0500
TZNAME:EST
DTSTART:20191103T060000
END:STANDARD
END:VTIMEZONE
BEGIN:VEVENT
DTSTART;TZID=America/Toronto:20191109T100000
DTEND;TZID=America/Toronto:20191109T150000
DTSTAMP:20260422T203601
CREATED:20191104T033716Z
LAST-MODIFIED:20191105T135905Z
UID:10442-1573293600-1573311600@showwiz.ca
SUMMARY:Annual Craft Fair Sale
DESCRIPTION:
URL:https://showwiz.ca/show/annual-craft-fair-sale/
LOCATION:Manoir Rockland Manor\, 9045 County Rd 17\, Clarence-Rockland\, Ontario\, K4K 0J9\, Canada
GEO:45.5463242;-75.300481
X-APPLE-STRUCTURED-LOCATION;VALUE=URI;X-ADDRESS=Manoir Rockland Manor 9045 County Rd 17 Clarence-Rockland Ontario K4K 0J9 Canada;X-APPLE-RADIUS=500;X-TITLE=9045 County Rd 17:geo:-75.300481,45.5463242
END:VEVENT
END:VCALENDAR