BEGIN:VCALENDAR
VERSION:2.0
PRODID:-//ShowWiz - ECPv5.16.4//NONSGML v1.0//EN
CALSCALE:GREGORIAN
METHOD:PUBLISH
X-WR-CALNAME:ShowWiz
X-ORIGINAL-URL:https://showwiz.ca
X-WR-CALDESC:Events for ShowWiz
BEGIN:VTIMEZONE
TZID:America/Toronto
BEGIN:DAYLIGHT
TZOFFSETFROM:-0500
TZOFFSETTO:-0400
TZNAME:EDT
DTSTART:20200308T070000
END:DAYLIGHT
BEGIN:STANDARD
TZOFFSETFROM:-0400
TZOFFSETTO:-0500
TZNAME:EST
DTSTART:20201101T060000
END:STANDARD
END:VTIMEZONE
BEGIN:VEVENT
DTSTART;TZID=America/Toronto:20200822T080000
DTEND;TZID=America/Toronto:20200822T170000
DTSTAMP:20260424T143144
CREATED:20200216T195026Z
LAST-MODIFIED:20200728T060515Z
UID:13765-1598083200-1598115600@showwiz.ca
SUMMARY:American Graffiti Part 6
DESCRIPTION:
URL:https://showwiz.ca/show/american-graffiti-part-6/
LOCATION:Main Street – Seeley’s Bay\, Main Street\, Seeley's Bay\, Ontario\, Canada
ATTACH;FMTTYPE=image/jpeg:https://showwiz.ca/wp-content/uploads/2020/02/75540100_2452605824775599_4231966495204179968_o.jpg
ORGANIZER;CN="Sherry%20White":MAILTO:deltadawn1ca@hotmail.com
GEO:44.4790766;-76.2322947
X-APPLE-STRUCTURED-LOCATION;VALUE=URI;X-ADDRESS=Main Street – Seeley’s Bay Main Street Seeley's Bay Ontario Canada;X-APPLE-RADIUS=500;X-TITLE=Main Street:geo:-76.2322947,44.4790766
END:VEVENT
END:VCALENDAR