BEGIN:VCALENDAR
VERSION:2.0
PRODID:-//ShowWiz - ECPv5.16.4//NONSGML v1.0//EN
CALSCALE:GREGORIAN
METHOD:PUBLISH
X-WR-CALNAME:ShowWiz
X-ORIGINAL-URL:https://showwiz.ca
X-WR-CALDESC:Events for ShowWiz
BEGIN:VTIMEZONE
TZID:America/Toronto
BEGIN:DAYLIGHT
TZOFFSETFROM:-0500
TZOFFSETTO:-0400
TZNAME:EDT
DTSTART:20180311T070000
END:DAYLIGHT
BEGIN:STANDARD
TZOFFSETFROM:-0400
TZOFFSETTO:-0500
TZNAME:EST
DTSTART:20181104T060000
END:STANDARD
END:VTIMEZONE
BEGIN:VEVENT
DTSTART;TZID=America/Toronto:20181202T100000
DTEND;TZID=America/Toronto:20181202T160000
DTSTAMP:20260424T144907
CREATED:20181102T185236Z
LAST-MODIFIED:20181102T185236Z
UID:1418-1543744800-1543766400@showwiz.ca
SUMMARY:7th Annual Trend Christmas Craft Show - Sunday
DESCRIPTION:Back by popular demand on Saturday and Sunday\, December 1st and 2nd\, 2018 at Sir Robert Borden High School\, Nepean. Doors are open from 10:00 a.m. to 4:00 p.m. each day. Free admission and free parking. Come and check out the handcrafted works of 40 local artisans (no direct sales). You’re sure to find great gift ideas in time for Christmas. You don’t want to miss it.\nAgain this year the SRB students will be holding a canteen and lunch as a fund raiser for a special project. Donations to the Ottawa Food Bank in non perishable food or cash donations are always appreciated. Hope to see you there!
URL:https://showwiz.ca/show/7th-annual-trend-christmas-craft-show-sunday/
LOCATION:Sir Robert Borden High School – Nepean\, 131 Greenbank Road\, Nepean\, Ontario\, K2G3S4\, Canada
ORGANIZER;CN="INACTIVE%3A%20Captial%20Artisans%20Guild":MAILTO:capitalartisansguild@gmail.com
GEO:45.3327814;-75.7831708
X-APPLE-STRUCTURED-LOCATION;VALUE=URI;X-ADDRESS=Sir Robert Borden High School – Nepean 131 Greenbank Road Nepean Ontario K2G3S4 Canada;X-APPLE-RADIUS=500;X-TITLE=131 Greenbank Road:geo:-75.7831708,45.3327814
END:VEVENT
END:VCALENDAR