BEGIN:VCALENDAR
VERSION:2.0
PRODID:-//ShowWiz - ECPv5.16.4//NONSGML v1.0//EN
CALSCALE:GREGORIAN
METHOD:PUBLISH
X-WR-CALNAME:ShowWiz
X-ORIGINAL-URL:https://showwiz.ca
X-WR-CALDESC:Events for ShowWiz
BEGIN:VTIMEZONE
TZID:America/Toronto
BEGIN:DAYLIGHT
TZOFFSETFROM:-0500
TZOFFSETTO:-0400
TZNAME:EDT
DTSTART:20190310T070000
END:DAYLIGHT
BEGIN:STANDARD
TZOFFSETFROM:-0400
TZOFFSETTO:-0500
TZNAME:EST
DTSTART:20191103T060000
END:STANDARD
END:VTIMEZONE
BEGIN:VEVENT
DTSTART;TZID=America/Toronto:20191116T100000
DTEND;TZID=America/Toronto:20191116T153000
DTSTAMP:20260425T182659
CREATED:20190829T054428Z
LAST-MODIFIED:20190829T054428Z
UID:8749-1573898400-1573918200@showwiz.ca
SUMMARY:6th Annual Holly Jolly Christmas Fair
DESCRIPTION:A craft and vendor show featuring Christmas items by many popular direct-sales vendors and talented crafters!
URL:https://showwiz.ca/show/6th-annual-holly-jolly-christmas-fair/
LOCATION:Marianhill Auditorium\, 600 Cecelia St\, Pembroke\, Ontario\, K8A7Z3\, Canada
ATTACH;FMTTYPE=image/jpeg:https://showwiz.ca/wp-content/uploads/2019/08/64756021_862760674105048_378738093131300864_n.jpg
ORGANIZER;CN="Debbie%20Estabrooks":MAILTO:debbieestabrooks@gmail.com
GEO:45.8148471;-77.1047696
X-APPLE-STRUCTURED-LOCATION;VALUE=URI;X-ADDRESS=Marianhill Auditorium 600 Cecelia St Pembroke Ontario K8A7Z3 Canada;X-APPLE-RADIUS=500;X-TITLE=600 Cecelia St:geo:-77.1047696,45.8148471
END:VEVENT
END:VCALENDAR