BEGIN:VCALENDAR
VERSION:2.0
PRODID:-//ShowWiz - ECPv5.16.4//NONSGML v1.0//EN
CALSCALE:GREGORIAN
METHOD:PUBLISH
X-WR-CALNAME:ShowWiz
X-ORIGINAL-URL:https://showwiz.ca
X-WR-CALDESC:Events for ShowWiz
BEGIN:VTIMEZONE
TZID:America/Toronto
BEGIN:DAYLIGHT
TZOFFSETFROM:-0500
TZOFFSETTO:-0400
TZNAME:EDT
DTSTART:20190310T070000
END:DAYLIGHT
BEGIN:STANDARD
TZOFFSETFROM:-0400
TZOFFSETTO:-0500
TZNAME:EST
DTSTART:20191103T060000
END:STANDARD
END:VTIMEZONE
BEGIN:VEVENT
DTSTART;TZID=America/Toronto:20190504T100000
DTEND;TZID=America/Toronto:20190504T160000
DTSTAMP:20260424T174559
CREATED:20190204T190303Z
LAST-MODIFIED:20190301T225422Z
UID:2640-1556964000-1556985600@showwiz.ca
SUMMARY:2019 Swirlicious & Friends Annual Spring Shopping Event
DESCRIPTION:A great outing to shop for Mother’s Day! \nFree admission\nPlenty of parking\nWheelchair & stroller accessible
URL:https://showwiz.ca/show/2019-swirlicious-friends-annual-spring-shopping-event/
LOCATION:Carambeck Centre\, 351 Bridge Street\, Carleton Place\, Ontario\, K7C3H9\, Canada
ATTACH;FMTTYPE=image/png:https://showwiz.ca/wp-content/uploads/2019/02/51080303_2285639901672019_4513178392283054080_n-1.png
ORGANIZER;CN="Swirlicious%20and%20Friends":MAILTO:swirliciousandfriends@gmail.com
GEO:45.1451426;-76.1506606
X-APPLE-STRUCTURED-LOCATION;VALUE=URI;X-ADDRESS=Carambeck Centre 351 Bridge Street Carleton Place Ontario K7C3H9 Canada;X-APPLE-RADIUS=500;X-TITLE=351 Bridge Street:geo:-76.1506606,45.1451426
END:VEVENT
END:VCALENDAR