BEGIN:VCALENDAR
VERSION:2.0
PRODID:-//ShowWiz - ECPv5.16.4//NONSGML v1.0//EN
CALSCALE:GREGORIAN
METHOD:PUBLISH
X-WR-CALNAME:ShowWiz
X-ORIGINAL-URL:https://showwiz.ca
X-WR-CALDESC:Events for ShowWiz
BEGIN:VTIMEZONE
TZID:America/Toronto
BEGIN:DAYLIGHT
TZOFFSETFROM:-0500
TZOFFSETTO:-0400
TZNAME:EDT
DTSTART:20180311T070000
END:DAYLIGHT
BEGIN:STANDARD
TZOFFSETFROM:-0400
TZOFFSETTO:-0500
TZNAME:EST
DTSTART:20181104T060000
END:STANDARD
END:VTIMEZONE
BEGIN:VEVENT
DTSTART;TZID=America/Toronto:20181110T110000
DTEND;TZID=America/Toronto:20181110T160000
DTSTAMP:20260421T193417
CREATED:20180910T154030Z
LAST-MODIFIED:20181025T191746Z
UID:190-1541847600-1541865600@showwiz.ca
SUMMARY:1st Annual Carleton Place Christmas Craft and Vendor Showcase
DESCRIPTION:Welcome to the 1st Annual Carleton Place Christmas Craft and Vendor Showcase.\nThere will be 30 vendors to shop from so there is sure to be something for everyone on your list so lets get a jump on our Christmas shopping! Partial proceeds to Lanark Animal Welfare Society
URL:https://showwiz.ca/show/1st-annual-carleton-place-christmas-craft-and-vendor-showcase/
LOCATION:Carambeck Centre\, 351 Bridge Street\, Carleton Place\, Ontario\, K7C3H9\, Canada
ATTACH;FMTTYPE=image/jpeg:https://showwiz.ca/wp-content/uploads/2018/09/32080326_2057240144552343_4391719654909804544_n.jpg
GEO:45.1451426;-76.1506606
X-APPLE-STRUCTURED-LOCATION;VALUE=URI;X-ADDRESS=Carambeck Centre 351 Bridge Street Carleton Place Ontario K7C3H9 Canada;X-APPLE-RADIUS=500;X-TITLE=351 Bridge Street:geo:-76.1506606,45.1451426
END:VEVENT
END:VCALENDAR